BEGIN:VCALENDAR
VERSION:2.0
PRODID:-//Library Market//iCal Export//EN
BEGIN:VEVENT
SUMMARY:Nature Lab - Rocks, Minerals, and Gems, Oh My!
UID:4943
DTSTAMP:20260421T193800Z
DTSTART:20260506T180000Z
DTEND:20260506T200000Z
LOCATION:Powhatan County Public Library, 2270 Mann Rd., Powhatan, VA 23139
 , United States
ROOM: Large Conference Room
DESCRIPTION: Join us for our STEAM-focused &quot;Nature Lab&quot; series 
 in collaboration with Powhatan State Park and Family Learning Adventures! 
 Stop by to explore the different books, games, and learning kits you can c
 heck out and take home with you to learn more about nature and the environ
 ment. In addition to browsing resources, there will also be an informal ac
 tivity, exhibit, or presentation you can check out. The theme for this we
 ek&#039;s Nature Lab is &quot;Rocks, Minerals, and Gems, Oh My!&quot; Ther
 e will be four rock stations where you can learn all about the different q
 ualities of rocks and minerals. You can even bring your own collection by 
 to share with the group! Walk away with a handmade rock bracelet and a new
  appreciation for Virginia&#039;s geology.
URL:https://powhatancounty.librarycalendar.com/event/nature-lab-4943
END:VEVENT
END:VCALENDAR
